BEGIN:VCALENDAR
VERSION:2.0
PRODID:-//Famagusta Run - ECPv6.15.20//NONSGML v1.0//EN
CALSCALE:GREGORIAN
METHOD:PUBLISH
X-WR-CALNAME:Famagusta Run
X-ORIGINAL-URL:https://famagusta.run/el/
X-WR-CALDESC:Events for Famagusta Run
REFRESH-INTERVAL;VALUE=DURATION:PT1H
X-Robots-Tag:noindex
X-PUBLISHED-TTL:PT1H
BEGIN:VTIMEZONE
TZID:Europe/Helsinki
BEGIN:DAYLIGHT
TZOFFSETFROM:+0200
TZOFFSETTO:+0300
TZNAME:EEST
DTSTART:20250330T010000
END:DAYLIGHT
BEGIN:STANDARD
TZOFFSETFROM:+0300
TZOFFSETTO:+0200
TZNAME:EET
DTSTART:20251026T010000
END:STANDARD
BEGIN:DAYLIGHT
TZOFFSETFROM:+0200
TZOFFSETTO:+0300
TZNAME:EEST
DTSTART:20260329T010000
END:DAYLIGHT
BEGIN:STANDARD
TZOFFSETFROM:+0300
TZOFFSETTO:+0200
TZNAME:EET
DTSTART:20261025T010000
END:STANDARD
BEGIN:DAYLIGHT
TZOFFSETFROM:+0200
TZOFFSETTO:+0300
TZNAME:EEST
DTSTART:20270328T010000
END:DAYLIGHT
BEGIN:STANDARD
TZOFFSETFROM:+0300
TZOFFSETTO:+0200
TZNAME:EET
DTSTART:20271031T010000
END:STANDARD
END:VTIMEZONE
BEGIN:VTIMEZONE
TZID:UTC
BEGIN:STANDARD
TZOFFSETFROM:+0000
TZOFFSETTO:+0000
TZNAME:UTC
DTSTART:20250101T000000
END:STANDARD
END:VTIMEZONE
BEGIN:VEVENT
DTSTART;TZID=Europe/Helsinki:20261011T073000
DTEND;TZID=Europe/Helsinki:20261011T123000
DTSTAMP:20260422T055223
CREATED:20200716T113837Z
LAST-MODIFIED:20251105T065256Z
UID:34892-1791703800-1791721800@famagusta.run
SUMMARY:Διαδρομή 30χλμ
DESCRIPTION:Μια διαδρομή 30 χιλιομέτρων με αφετηρία και τερματισμό στη Fig Tree Bay\, που ακολουθεί τον γραφικό παραλιακό δρόμο μέχρι τον κυκλικό κόμβο της Αγίας Τριάδας (περιοχή Καππάρης) πριν επιστρέψει στον Πρωταρά. \nΙδανική για έμπειρους δρομείς που επιθυμούν να δοκιμάσουν την αντοχή τους σε μία από τις πιο συναρπαστικές διαδρομές της Μεσογείου. \nΕπιτρεπόμενη ηλικία: 18 ετών και άνω. \nΗ εγγραφή σας περιλαμβάνει: \n\nΕπίσημο T-shirt του αγώνα\nΑριθμός BIB\nΗλεκτρονική χρονομέτρηση*\nΕπίσημα αποτελέσματα\nΠιστοποιητικό συμμετοχής\nΦωτογραφίες του αγώνα\nΜετάλλιο τερματισμού\nΤσάντα δρομέα\nΥπηρεσίες κατά τη διάρκεια του αγώνα\nΙατρική υποστήριξη\n\n \n  \nΔΙΑΔΡΟΜΗ ΤΡΕΞΙΜΑΤΟΣ
URL:https://famagusta.run/el/event/30k/
LOCATION:Protaras\, 2365+JCH\, Paralimni 5296\, Cyprus\, Protaras\, 5296\, Cyprus
CATEGORIES:Races
ATTACH;FMTTYPE=image/jpeg:https://famagusta.run/wp-content/uploads/2020/07/Famagusta-run-web-new.jpg
END:VEVENT
BEGIN:VEVENT
DTSTART;TZID=UTC:20261011T083000
DTEND;TZID=UTC:20261011T123000
DTSTAMP:20260422T055223
CREATED:20200428T103115Z
LAST-MODIFIED:20251105T065145Z
UID:34902-1791707400-1791721800@famagusta.run
SUMMARY:Διαδρομή 10χλμ by Bet on Alfa
DESCRIPTION:Μια απόσταση για όσους αγαπούν την ταχύτητα και τις προκλήσεις. Ξεκινώντας από το Fig Tree Bay\, η διαδρομή οδηγεί στην κυκλική διασταύρωση Αγίας Τριάδας πριν επιστρέψει στον Πρωταρά.\nΟ αγώνας των 10 χλμ. είναι ιδανικός για δρομείς που θέλουν να βελτιώσουν τις επιδόσεις τους ή να απολαύσουν μια δυνατή εμπειρία κατά μήκος της ακτής. \nΗλικίες: 16 ετών και άνω. \nΗ εγγραφή σας περιλαμβάνει: \n\nΕπίσημο T-shirt του αγώνα\nΑριθμό BIB\nΗλεκτρονική χρονομέτρηση*\nΕπίσημα αποτελέσματα\nΠιστοποιητικό συμμετοχής\nΦωτογραφίες του αγώνα\nΜετάλλιο τερματισμού\nΤσάντα δρομέα\nΥπηρεσίες κατά τη διάρκεια του αγώνα\nΙατρική υποστήριξη\n\n \nΔΙΑΔΡΟΜΗ ΤΡΕΞΙΜΑΤΟΣ
URL:https://famagusta.run/el/event/10km/
LOCATION:Protaras\, 2365+JCH\, Paralimni 5296\, Cyprus\, Protaras\, 5296\, Cyprus
CATEGORIES:Races
ATTACH;FMTTYPE=image/jpeg:https://famagusta.run/wp-content/uploads/2020/04/BET-ON-ALFA.jpg
END:VEVENT
BEGIN:VEVENT
DTSTART;TZID=Europe/Helsinki:20261011T100000
DTEND;TZID=Europe/Helsinki:20261011T123000
DTSTAMP:20260422T055223
CREATED:20250707T095652Z
LAST-MODIFIED:20251105T070103Z
UID:34899-1791712800-1791721800@famagusta.run
SUMMARY:Διαδρομή 5 χλμ. (ατομική) by Powerade
DESCRIPTION:Η Διαδρομή που αγαπούν όλοι! Είτε είστε αρχάριος είτε έμπειρος δρομέας\, η ατομική διαδρομή  5 χλμ. είναι η ιδανική ευκαιρία να λάβετε μέρος σε ένα μεγάλο αθλητικό γεγονός.\nΜε αφετηρία και τερματισμό στο Fig Tree Bay\, είναι η πιο προσιτή και ανοιχτή διαδρομή του Cablenet Famagusta Run \nΗλικία: 13 ετών και άνω \nΗ εγγραφή σας περιλαμβάνει: \n\nΕπίσημο T-shirt του αγώνα\nΑριθμό BIB\nΗλεκτρονική χρονομέτρηση*\nΕπίσημα αποτελέσματα\nΠιστοποιητικό συμμετοχής\nΦωτογραφίες του αγώνα\nΜετάλλιο τερματισμού\nΤσάντα δρομέα\nΥπηρεσίες κατά τη διάρκεια του αγώνα\nΙατρική υποστήριξη\n\n \nΔΙΑΔΡΟΜΗ ΤΡΕΞΙΜΑΤΟΣ
URL:https://famagusta.run/el/event/5km-individual/
LOCATION:Protaras\, 2365+JCH\, Paralimni 5296\, Cyprus\, Protaras\, 5296\, Cyprus
CATEGORIES:Races
ATTACH;FMTTYPE=image/jpeg:https://famagusta.run/wp-content/uploads/2025/07/POWERRADE.jpg
END:VEVENT
BEGIN:VEVENT
DTSTART;TZID=Europe/Helsinki:20261011T100500
DTEND;TZID=Europe/Helsinki:20261011T123000
DTSTAMP:20260422T055223
CREATED:20250707T095921Z
LAST-MODIFIED:20251105T070338Z
UID:34897-1791713100-1791721800@famagusta.run
SUMMARY:Διαδρομή 5 χλμ. (εταιρική) by Shell
DESCRIPTION:Η απόσταση που συνδυάζει το τρέξιμο με την ομαδική εργασία. Σχεδιασμένη για εταιρείες\, οργανισμούς και ομάδες που θέλουν να μοιραστούν μαζί την εμπειρία του Famagusta Run\nΗ διαδρομή αρχίζει και τελειώνει στο Fig Tree Bay\, προσφέροντας μια διασκεδαστική και συναρπαστική πρόκληση. \nΗλικία: 13 ετών και άνω. \nΗ εγγραφή σας περιλαμβάνει: \n\nΑριθμό BIB\nΗλεκτρονική χρονομέτρηση*\nΕπίσημα αποτελέσματα\nΠιστοποιητικό συμμετοχής\nΦωτογραφίες του αγώνα\nΜετάλλιο τερματισμού\nΤσάντα δρομέα\nΥπηρεσίες κατά τη διάρκεια του αγώνα\nΙατρική υποστήριξη\n\n \nΔΙΑΔΡΟΜΗ ΤΡΕΞΙΜΑΤΟΣ
URL:https://famagusta.run/el/event/5-%cf%87%ce%bb%ce%bc-%ce%b5%cf%84%ce%b1%ce%b9%cf%81%ce%b9%ce%ba%cf%8c%cf%82-%ce%b1%ce%b3%cf%8e%ce%bd%ce%b1%cf%82-%ce%b4%cf%81%cf%8c%ce%bc%ce%bf%cf%85/
LOCATION:Protaras\, 2365+JCH\, Paralimni 5296\, Cyprus\, Protaras\, 5296\, Cyprus
CATEGORIES:Races
ATTACH;FMTTYPE=image/jpeg:https://famagusta.run/wp-content/uploads/2025/07/SHELL.jpg
END:VEVENT
BEGIN:VEVENT
DTSTART;TZID=UTC:20261011T111500
DTEND;TZID=UTC:20261011T123000
DTSTAMP:20260422T055223
CREATED:20250707T100118Z
LAST-MODIFIED:20251105T071255Z
UID:34895-1791717300-1791721800@famagusta.run
SUMMARY:Διαδρομή 1 χλμ (παιδική)
DESCRIPTION:Η χαρά του τρεξίματος ξεκινά από μικρή ηλικία! Ο 1km Kids Race του Famagusta Run δίνει στα παιδιά την ευκαιρία να συμμετάσχουν σε μια μεγάλη εκδήλωση γεμάτη διασκέδαση\, ασφάλεια και χαμόγελα. Η διαδρομή ξεκινά και τελειώνει στο Fig Tree Bay. \nΗλικία: 6 έως 12 ετών. \nΗ εγγραφή σας περιλαμβάνει: \n\nΕπίσημο T-Shirt του αγώνα\nΑριθμός BIB\nΕπίσημα αποτελέσματα\nΠιστοποιητικό συμμετοχής\nΦωτογραφίες του αγώνα\nΜετάλλιο τερματισμού\nΤσάντα δρομέα\nΥπηρεσίες κατά τη διάρκεια του αγώνα\nΙατρική υποστήριξη\n\n \nΔΙΑΔΡΟΜΗ ΤΡΕΞΙΜΑΤΟΣ
URL:https://famagusta.run/el/event/1-%cf%87%ce%bb%ce%bc-%ce%b1%ce%b3%cf%8e%ce%bd%ce%b1%cf%82-%ce%b4%ce%b9%ce%b1%cf%83%ce%ba%ce%ad%ce%b4%ce%b1%cf%83%ce%b7%cf%82/
LOCATION:Protaras\, 2365+JCH\, Paralimni 5296\, Cyprus\, Protaras\, 5296\, Cyprus
CATEGORIES:Races
ATTACH;FMTTYPE=image/jpeg:https://famagusta.run/wp-content/uploads/2020/07/1km-race-1536x1085-1.jpg
END:VEVENT
END:VCALENDAR